BEGIN:VCALENDAR
VERSION:2.0
PRODID:icalendar-ruby
CALSCALE:GREGORIAN
METHOD:PUBLISH
BEGIN:VEVENT
DTSTAMP:20260421T140541Z
UID:52-745984@bcc1857.org
DTSTART:20261101T151500Z
DTEND:20261101T161500Z
CLASS:PUBLIC
CREATED:20260421T081634
DESCRIPTION:Sunday School
LAST-MODIFIED:20260421T081634
LOCATION:
SUMMARY:Sunday School
URL;VALUE=URI:https://bcc1857.org/events/sunday-school/2026-11-01
ATTACH;FILENAME=Sunday-School-.jpg;FMTTYPE=image/jpeg:https://dq5pwpg1q8ru0
 .cloudfront.net/2025/08/25/15/15/37/e9ac3c21-c89e-49f0-948b-6415430a3c0e/S
 unday-School-.jpg
END:VEVENT
END:VCALENDAR
