BEGIN:VCALENDAR
VERSION:2.0
PRODID:icalendar-ruby
CALSCALE:GREGORIAN
METHOD:PUBLISH
BEGIN:VEVENT
DTSTAMP:20260421T090948Z
UID:52-745298@bcc1857.org
DTSTART:20261011T141500Z
DTEND:20261011T151500Z
CLASS:PUBLIC
CREATED:20260420T210931
DESCRIPTION:Sunday School
LAST-MODIFIED:20260420T210931
LOCATION:
SUMMARY:Sunday School
URL;VALUE=URI:https://bcc1857.org/events/sunday-school/2026-10-11
ATTACH;FILENAME=Sunday-School-.jpg;FMTTYPE=image/jpeg:https://dq5pwpg1q8ru0
 .cloudfront.net/2025/08/25/15/15/37/e9ac3c21-c89e-49f0-948b-6415430a3c0e/S
 unday-School-.jpg
END:VEVENT
END:VCALENDAR
