BEGIN:VCALENDAR
VERSION:2.0
PRODID:icalendar-ruby
CALSCALE:GREGORIAN
METHOD:PUBLISH
BEGIN:VEVENT
DTSTAMP:20260420T013022Z
UID:88-739882@bcc1857.org
DTSTART:20260917T140000Z
DTEND:20260917T150000Z
CLASS:PUBLIC
CREATED:20260419T202130
DESCRIPTION:\nJoin Our Weekly Bible Study with Pastor Brian Oxman\nEvery Th
 ursday at 10am\, Pastor Brian will lead a time of study and discussion\, c
 arrying forward Pastor John’s Bible Study legacy.\nWe’ll start by refl
 ecting on questions about the previous Sunday’s sermon and scripture\, t
 hen take a deep dive into the upcoming Sunday’s reading together.\nBring
  a any bible and come ready to learn\, share\, and grow in God’s Word 
 — all are welcome!\n#BibleStudy #FaithJourney #BrookfieldChurch #DigDeep
 er #ScriptureStudy\n
LAST-MODIFIED:20260419T202130
LOCATION:Upstairs Classroom
SUMMARY:Bible Study with Pastor Brian Oxman
URL;VALUE=URI:https://bcc1857.org/events/bible-study-with-pastor-brian-oxma
 n/2026-09-17
ATTACH;FILENAME=capp.jpg;FMTTYPE=image/jpeg:https://dq5pwpg1q8ru0.cloudfron
 t.net/2025/10/21/21/36/33/c089af1e-4255-4daf-bd3b-79d81ed9c5db/capp.jpg
END:VEVENT
END:VCALENDAR
